BEGIN:VCALENDAR
VERSION:2.0
PRODID:-// - ECPv6.13.2.1//NONSGML v1.0//EN
CALSCALE:GREGORIAN
METHOD:PUBLISH
X-ORIGINAL-URL:https://www.semesb.com.br
X-WR-CALDESC:Eventos para 
REFRESH-INTERVAL;VALUE=DURATION:PT1H
X-Robots-Tag:noindex
X-PUBLISHED-TTL:PT1H
BEGIN:VTIMEZONE
TZID:UTC
BEGIN:STANDARD
TZOFFSETFROM:+0000
TZOFFSETTO:+0000
TZNAME:UTC
DTSTART:20240101T000000
END:STANDARD
END:VTIMEZONE
BEGIN:VTIMEZONE
TZID:America/Sao_Paulo
BEGIN:STANDARD
TZOFFSETFROM:-0300
TZOFFSETTO:-0300
TZNAME:-03
DTSTART:20240101T000000
END:STANDARD
END:VTIMEZONE
BEGIN:VEVENT
DTSTART;TZID=UTC:20240830T090000
DTEND;TZID=UTC:20240830T180000
DTSTAMP:20260424T081901
CREATED:20240829T151405Z
LAST-MODIFIED:20240829T151405Z
UID:20288-1725008400-1725040800@www.semesb.com.br
SUMMARY:CONGRESSO FENEP 2024 (ON-LINE) - EDUCAÇÃO E A REVOLUÇÃO DIGITAL
DESCRIPTION:Descrição do evento\n\nCONGRESSO FENEP 2024 – Educação e a Revolução Digital: Como desejamos o futuro do Brasil. Evento on-line\, 100% gratuito e com certificado digital! \nSerão mais de 6 horas de palestras\, painéis e muita informação e conteúdo. Uma jornada de conhecimento e de aprendizado profundo para auxiliar e contribuir com toda a comunidade: gestores\, diretores\, professores\, coordenadores\, pais\, mães\, responsáveis\, dentre outros. \n\nOs inscritos no evento terão direito ao certificado digital e participarão dos sorteios de brindes oferecidos por nossos patrocinadores e parceiros. \n \nPARA QUEM É O EVENTO: \nTodos os atores educacionais como diretores\, coordenadores\, professores\, corpo técnico\, administrativo e pedagógico; pais\, mães\, responsáveis e família em geral; gestores e consultores escolares; e gestores políticos (CNE\, CEE\, CME\, Secretários de Educação\, Deputados e Senadores)\, bem como toda a comunidade acadêmica. \n \nCONFIRA A PROGRAMAÇÃO: \n\n09:00 – Abertura com Antônio Eugênio Cunha e Amábile Pacios \n \n09:15 – Palestra “USO RESPONSÁVEL DE TECNOLOGIAS E MÍDIA” com Leo Fraiman \n10:25 – Mesa de debate “EDUCAÇÃO INFANTIL COMO ESTRUTURA DA BOA APRENDIZAGEM” com Jane Haddad e Geraldo Peçanha \n \n11:20 – Palestra “FORMAÇÃO DE PROFESSORES – AVALIAÇÃO E REGULAÇÃO DAS IES” \n12:15 – Sorteio de brindes \n12:20 – Intervalo para almoço \n13:25 – Palestra “INSTITUCIONAL – ABE – ASSOCIACÃO BRASILEIRA DE EDUCAÇÃO – CENTENARIO DA ABE” com Paulo Gomes e Delmo Morani \n13:50 – Mesa de debate “GESTÃO ADMINISTRATIVA E FINANCEIRA EM ESCOLAS” com Emerson Casalli e Augusto Pelúcio \n14:40 – Mesa de debate “INCLUSÃO COM RESPONSABILIDADE\, SUSTENTABILIDADE\, RAZOABILIDADE E QUALIDADE” com Amábile Pacios e Dr. Diego Muñoz Donoso \n15:40 – Palestra “CENÁRIOS E IMPACTOS NA EDUCAÇÃO A PARTIR DE 2025 COM A INTELIGÊNCIA ARTIFICIAL” com Vitor Margato \n16:40 – Palestra “ENSINO MÉDIO E AVALIAÇÃO EXTERNA – PISA” com Ernesto Martins Faria \n \n17:35 – Encerramento com sorteio de brindes
URL:https://www.sympla.com.br/evento-online/congresso-fenep-2024-on-line-educacao-e-a-revolucao-digital/2594499
CATEGORIES:Eventos Digitais
ATTACH;FMTTYPE=image/jpeg:https://www.semesb.com.br/wp-content/uploads/2024/08/Capa-Sympla.jpg
END:VEVENT
BEGIN:VEVENT
DTSTART;TZID=UTC:20240815T083000
DTEND;TZID=UTC:20240816T183000
DTSTAMP:20260424T081901
CREATED:20240628T142140Z
LAST-MODIFIED:20240703T182543Z
UID:19997-1723710600-1723833000@www.semesb.com.br
SUMMARY:XVII FinancIES Fórum dos Executivos Financeiros para as Instituições de Ensino Privadas do Brasil
DESCRIPTION:TEMA CENTRAL: QUAL VALOR ESTAMOS ENTREGANDO PARA A SOCIEDADE? \nContextualização\nO mundo corporativo tem voltado nos últimos anos para a agenda ESG. Considerando a natureza das IES\, é de se esperar que o impacto social seja elevado. Estamos entregando para a sociedade o valor que prometemos? Temos algo de diferente para fazer ou corrigir e aumentar a geração de valor? \nO modelo de geração de valor das IES tem sido objeto de crítica. Empregadores apontam que os estudantes não estão preparados para o mercado de trabalho; potenciais estudantes questionam se vale apena fazer ensino superior\, considerando o custo x benefício; sob uma perspectiva macro\, o próprio modelo de oferta da educação superior brasileiro\, como um todo\, está em cheque – do EAD à concentração de mercado. O impacto no País é positivo? \nO XVII FinancIES irá abordar esses temas e mais\, sendo muito provocativo\, franco e focado na verdadeira geração de valor das IES.
URL:https://www.semesb.com.br/event/xvii-financies-forum-dos-executivos-financeiros-para-as-instituicoes-de-ensino-privadas-do-brasil/
LOCATION:FPS – Faculdade Pernambucana de Saúde\, v. Boa Viagem\, 420 - Boa Viagem\,\, Recife\, - PE\, 51011-000\, Brasil
CATEGORIES:Evento Presencial
ATTACH;FMTTYPE=image/jpeg:https://www.semesb.com.br/wp-content/uploads/2024/05/BANNER-800x-445-Slider-1.jpg
END:VEVENT
BEGIN:VEVENT
DTSTART;TZID=UTC:20240809T090000
DTEND;TZID=UTC:20240809T150000
DTSTAMP:20260424T081901
CREATED:20240723T191029Z
LAST-MODIFIED:20240723T191029Z
UID:20167-1723194000-1723215600@www.semesb.com.br
SUMMARY:Missão Técnica Nacional - CURITIBA
DESCRIPTION:A Rede de Cooperação 14 e o Semesp mais uma vez levam gestores educacionais para conhecerem boas práticas\, fazer conexões e realizar parcerias com IES que estão dando uma aula de inovação. \nÉ hora de fazer mais benchmarking em novas paradas das Missões Técnicas Nacionais do Semesp! \nAs visitas\, gratuitas\, com vagas limitadas e necessitam de prévia inscrição.
URL:https://www.semesb.com.br/event/missao-tecnica-nacional-curitiba/
LOCATION:PUCPR – Pontifícia Universidade Católica do Paraná\, Rua Imac. Conceição\, 1155 – Prado Velho\, Curitiba\, Paraná\, 80215-901
CATEGORIES:Evento Presencial
ATTACH;FMTTYPE=image/jpeg:https://www.semesb.com.br/wp-content/uploads/2024/07/BANNER-800x-445-Slider-2.jpg
END:VEVENT
BEGIN:VEVENT
DTSTART;TZID=UTC:20240806T093000
DTEND;TZID=UTC:20240806T120000
DTSTAMP:20260424T081901
CREATED:20240723T190220Z
LAST-MODIFIED:20240723T191408Z
UID:20159-1722936600-1722945600@www.semesb.com.br
SUMMARY:Educação Empreendedora e os Objetivos do Desenvolvimento Sustentável
DESCRIPTION:Abrindo as comemorações dos 42 anos da ABMES\, no próximo dia 6 de agosto\, será realizado um seminário híbrido com o tema “Educação Empreendedora e os Objetivos do Desenvolvimento Sustentável”. \nA Associação prepara um evento inspirador que reunirá educadores\, empreendedores e demais comprometidos com um futuro sustentável e inovador. \nNeste encontro\, será debatido como a educação empreendedora pode ser uma poderosa ferramenta para alcançar os Objetivos de Desenvolvimento Sustentável (ODS)\, estabelecidos pela ONU. Discutiremos práticas inovadoras\, cases de sucesso e estratégias para integrar princípios de sustentabilidade na formação empreendedora\, preparando assim as futuras gerações para enfrentar os desafios globais de forma proativa e criativa.
URL:https://www.semesb.com.br/event/educacao-empreendedora-e-os-objetivos-do-desenvolvimento-sustentavel/
LOCATION:Sede da ABMES\, SHN Qd. 01\, Bl. "F"\, Entrada "A"\, Conj. "A"\, Ed. Vision Work & Live\, 9º andar - Asa Norte\, Brasília -\, DF\, 70701-060\, Brasil
CATEGORIES:Evento Híbridos
ATTACH;FMTTYPE=image/jpeg:https://www.semesb.com.br/wp-content/uploads/2024/07/BANNER-800x-445-Slider-3.jpg
END:VEVENT
BEGIN:VEVENT
DTSTART;TZID=America/Sao_Paulo:20240717T080000
DTEND;TZID=America/Sao_Paulo:20240717T184000
DTSTAMP:20260424T081901
CREATED:20240627T192110Z
LAST-MODIFIED:20240703T182538Z
UID:19936-1721203200-1721241600@www.semesb.com.br
SUMMARY:3ª edição do Meeting Educacional Bahia!
DESCRIPTION:
URL:https://www.semesb.com.br/event/3a-edicao-do-meeting-educacional-bahia/
LOCATION:MERCURE SALVADOR RIO VERMELHO HOTEL\, R. da Fonte do Boi\, 215 – Rio Vermelho\, Salvador\, Bahia\, 41940-360\, Brasil
CATEGORIES:Evento Presencial
ATTACH;FMTTYPE=image/jpeg:https://www.semesb.com.br/wp-content/uploads/2024/06/BANNER-800x-445-Slider-3.jpg
END:VEVENT
BEGIN:VEVENT
DTSTART;TZID=UTC:20240702T160000
DTEND;TZID=UTC:20240702T200000
DTSTAMP:20260424T081901
CREATED:20240628T144035Z
LAST-MODIFIED:20240703T182523Z
UID:20003-1719936000-1719950400@www.semesb.com.br
SUMMARY:Webnário suspensão EAD Portaria MEC N° 528 de 06/06/24.
DESCRIPTION:O SEMESB/ ABAMES em parceria com a SANTOS JR Consultoria\, sempre preocupada em orientar as Instituições de Educação Superior Particulares\, organiza para dia 02/07/24\, às 16h\, Webnário gratuito para debate sobre a Portaria MEC N° 528 de 06/06/24. Esta portaria interrompe novas ofertas de EAD no Brasil\, suspende a criação de polos\, sobresta processos regulatórios e promete a criação de novo Marco Regulatório\, Referenciais de Qualidade e Instrumentos de Avaliação.\n➡ Para debater tamanho impacto nas pequenas e médias IES particulares\, foram reunidos o Prof. Sandro Albano como mediador e os Professores Luiz Claudio Costa e Jair Santos Jr como debatedores.\nAs entidades SEMERJ\, SEMESB\, ANFEP e AMPESC são promotoras deste evento que terá transmissão gratuita pelo canal YouTube @santosjrconsultoria.\n🛎 Marque em sua agenda\, participe conosco e vamos debater os novos rumos da EAD no ensino superior brasileiro.
URL:https://www.semesb.com.br/event/webnario-suspensao-ead-portaria-mec-n-528-de-06-06-24/
LOCATION:YouTube
CATEGORIES:Eventos Digitais
ATTACH;FMTTYPE=image/jpeg:https://www.semesb.com.br/wp-content/uploads/2024/06/Imagem-do-WhatsApp-de-2024-06-17-as-07.31.52_3ac2e7ed.jpg
END:VEVENT
END:VCALENDAR